BEGIN:VCALENDAR
VERSION:2.0
PRODID:-//Welcome to St. Conaires N.S. | Shannon | Diocese of Killaloe - ECPv6.15.20//NONSGML v1.0//EN
CALSCALE:GREGORIAN
METHOD:PUBLISH
X-ORIGINAL-URL:https://www.conaires.ie
X-WR-CALDESC:Events for Welcome to St. Conaires N.S. | Shannon | Diocese of Killaloe
REFRESH-INTERVAL;VALUE=DURATION:PT1H
X-Robots-Tag:noindex
X-PUBLISHED-TTL:PT1H
BEGIN:VTIMEZONE
TZID:Europe/Dublin
BEGIN:STANDARD
TZOFFSETFROM:+0000
TZOFFSETTO:+0100
TZNAME:IST
DTSTART:20180325T010000
END:STANDARD
BEGIN:DAYLIGHT
TZOFFSETFROM:+0100
TZOFFSETTO:+0000
TZNAME:GMT
DTSTART:20181028T010000
END:DAYLIGHT
BEGIN:STANDARD
TZOFFSETFROM:+0000
TZOFFSETTO:+0100
TZNAME:IST
DTSTART:20190331T010000
END:STANDARD
BEGIN:DAYLIGHT
TZOFFSETFROM:+0100
TZOFFSETTO:+0000
TZNAME:GMT
DTSTART:20191027T010000
END:DAYLIGHT
BEGIN:STANDARD
TZOFFSETFROM:+0000
TZOFFSETTO:+0100
TZNAME:IST
DTSTART:20200329T010000
END:STANDARD
BEGIN:DAYLIGHT
TZOFFSETFROM:+0100
TZOFFSETTO:+0000
TZNAME:GMT
DTSTART:20201025T010000
END:DAYLIGHT
END:VTIMEZONE
BEGIN:VEVENT
DTSTART;VALUE=DATE:20190506
DTEND;VALUE=DATE:20190507
DTSTAMP:20260420T134239
CREATED:20190104T155632Z
LAST-MODIFIED:20190104T155632Z
UID:23490-1557100800-1557187199@www.conaires.ie
SUMMARY:May Bank Holiday 2019
DESCRIPTION:St. Conaire’s will be closed today\, Monday May 6th 2019\, for the annual May Bank Holiday.  School will resume as normal tomorrow\, May 7th.
URL:https://www.conaires.ie/event/may-bank-holiday-2019/
END:VEVENT
BEGIN:VEVENT
DTSTART;TZID=Europe/Dublin:20190511T183000
DTEND;TZID=Europe/Dublin:20190511T190000
DTSTAMP:20260420T134239
CREATED:20190104T160758Z
LAST-MODIFIED:20190104T160758Z
UID:23502-1557599400-1557601200@www.conaires.ie
SUMMARY:Confirmation Preparation Mass
DESCRIPTION:Our final preparation Mass for Confirmation takes place this evening at 6:30 pm in Ss. John & Paul Church.  All are welcome.
URL:https://www.conaires.ie/event/confirmation-preparation-mass-4/
END:VEVENT
BEGIN:VEVENT
DTSTART;VALUE=DATE:20190521
DTEND;VALUE=DATE:20190522
DTSTAMP:20260420T134239
CREATED:20190104T160957Z
LAST-MODIFIED:20190104T160957Z
UID:23504-1558396800-1558483199@www.conaires.ie
SUMMARY:Ceremony of Light for Confirmation Candidates
DESCRIPTION:The Ceremony of Light in preparation for Confirmation will take place this evening in Ss. John & Paul Church.
URL:https://www.conaires.ie/event/ceremony-of-light-for-confirmation-candidates/
END:VEVENT
BEGIN:VEVENT
DTSTART;TZID=Europe/Dublin:20190529T150000
DTEND;TZID=Europe/Dublin:20190529T170000
DTSTAMP:20260420T134239
CREATED:20190104T160232Z
LAST-MODIFIED:20190104T160232Z
UID:23496-1559142000-1559149200@www.conaires.ie
SUMMARY:Confirmation 2019
DESCRIPTION:Pupils in our 6th classes will receive the Sacrament of Confirmation from Bishop Fintan Monahan at 3 pm today in Ss. John & Paul Church.
URL:https://www.conaires.ie/event/confirmation-2019/
END:VEVENT
BEGIN:VEVENT
DTSTART;VALUE=DATE:20190530
DTEND;VALUE=DATE:20190605
DTSTAMP:20260420T134239
CREATED:20190104T155829Z
LAST-MODIFIED:20190104T155829Z
UID:23492-1559174400-1559692799@www.conaires.ie
SUMMARY:June Bank Holiday 2019
DESCRIPTION:St. Conaire’s will be closed May 30th to June 4th inclusive.  The school will re-open on June 5th.
URL:https://www.conaires.ie/event/june-bank-holiday-2019/
END:VEVENT
END:VCALENDAR