BEGIN:VCALENDAR
VERSION:2.0
PRODID:-//Welcome to St. Conaires N.S. | Shannon | Diocese of Killaloe - ECPv6.15.20//NONSGML v1.0//EN
CALSCALE:GREGORIAN
METHOD:PUBLISH
X-ORIGINAL-URL:https://www.conaires.ie
X-WR-CALDESC:Events for Welcome to St. Conaires N.S. | Shannon | Diocese of Killaloe
REFRESH-INTERVAL;VALUE=DURATION:PT1H
X-Robots-Tag:noindex
X-PUBLISHED-TTL:PT1H
BEGIN:VTIMEZONE
TZID:Europe/Dublin
BEGIN:STANDARD
TZOFFSETFROM:+0000
TZOFFSETTO:+0100
TZNAME:IST
DTSTART:20180325T010000
END:STANDARD
BEGIN:DAYLIGHT
TZOFFSETFROM:+0100
TZOFFSETTO:+0000
TZNAME:GMT
DTSTART:20181028T010000
END:DAYLIGHT
BEGIN:STANDARD
TZOFFSETFROM:+0000
TZOFFSETTO:+0100
TZNAME:IST
DTSTART:20190331T010000
END:STANDARD
BEGIN:DAYLIGHT
TZOFFSETFROM:+0100
TZOFFSETTO:+0000
TZNAME:GMT
DTSTART:20191027T010000
END:DAYLIGHT
BEGIN:STANDARD
TZOFFSETFROM:+0000
TZOFFSETTO:+0100
TZNAME:IST
DTSTART:20200329T010000
END:STANDARD
BEGIN:DAYLIGHT
TZOFFSETFROM:+0100
TZOFFSETTO:+0000
TZNAME:GMT
DTSTART:20201025T010000
END:DAYLIGHT
END:VTIMEZONE
BEGIN:VEVENT
DTSTART;TZID=Europe/Dublin:20190407T100000
DTEND;TZID=Europe/Dublin:20190407T103000
DTSTAMP:20260422T112223
CREATED:20190104T160600Z
LAST-MODIFIED:20190104T160617Z
UID:23500-1554631200-1554633000@www.conaires.ie
SUMMARY:Confirmation Preparation Mass
DESCRIPTION:Our next Confirmation preparation Mass takes place at 10 am on Sunday\, April 7th in Ss. John & Paul Church.  All are welcome.
URL:https://www.conaires.ie/event/confirmation-preparation-mass-3/
END:VEVENT
BEGIN:VEVENT
DTSTART;VALUE=DATE:20190412
DTEND;VALUE=DATE:20190413
DTSTAMP:20260422T112223
CREATED:20190104T154909Z
LAST-MODIFIED:20190104T154957Z
UID:23485-1555027200-1555113599@www.conaires.ie
SUMMARY:Closure for Easter 2019 Holidays
DESCRIPTION:St. Conaire’s will close for the Easter Holidays at 12 noon on Friday\, April 12th 2019.  School will re-open on Monday\, 29th April 29.
URL:https://www.conaires.ie/event/easter-2019-holidays/
END:VEVENT
BEGIN:VEVENT
DTSTART;TZID=Europe/Dublin:20190412T180000
DTEND;TZID=Europe/Dublin:20190412T180000
DTSTAMP:20260422T112223
CREATED:20190314T185458Z
LAST-MODIFIED:20190314T185516Z
UID:23576-1555092000-1555092000@www.conaires.ie
SUMMARY:St. Conaire's Parents' Association Family Walk
DESCRIPTION:The annual Family Walk takes place tonight at 6 pm.  The walk will start in the school yard and will follow two routes – a shorter 2K Junior walk and the longer 5K Senior walk.  All proceeds raised go towards supporting the work of the Parents’ Association.
URL:https://www.conaires.ie/event/st-conaires-parents-association-family-walk/
END:VEVENT
BEGIN:VEVENT
DTSTART;VALUE=DATE:20190415
DTEND;VALUE=DATE:20190428
DTSTAMP:20260422T112223
CREATED:20190104T155144Z
LAST-MODIFIED:20190104T155144Z
UID:23488-1555286400-1556409599@www.conaires.ie
SUMMARY:Easter Holidays 2019
DESCRIPTION:St. Conaire’s is closed for the Easter Holidays\, April 15th to 27th inclusive.  School resumes on Monday\, April 29th.
URL:https://www.conaires.ie/event/easter-holidays-2019/
END:VEVENT
END:VCALENDAR