BEGIN:VCALENDAR
VERSION:2.0
PRODID:-//Welcome to St. Conaires N.S. | Shannon | Diocese of Killaloe - ECPv6.15.20//NONSGML v1.0//EN
CALSCALE:GREGORIAN
METHOD:PUBLISH
X-ORIGINAL-URL:https://www.conaires.ie
X-WR-CALDESC:Events for Welcome to St. Conaires N.S. | Shannon | Diocese of Killaloe
REFRESH-INTERVAL;VALUE=DURATION:PT1H
X-Robots-Tag:noindex
X-PUBLISHED-TTL:PT1H
BEGIN:VTIMEZONE
TZID:Europe/Dublin
BEGIN:STANDARD
TZOFFSETFROM:+0000
TZOFFSETTO:+0100
TZNAME:IST
DTSTART:20180325T010000
END:STANDARD
BEGIN:DAYLIGHT
TZOFFSETFROM:+0100
TZOFFSETTO:+0000
TZNAME:GMT
DTSTART:20181028T010000
END:DAYLIGHT
BEGIN:STANDARD
TZOFFSETFROM:+0000
TZOFFSETTO:+0100
TZNAME:IST
DTSTART:20190331T010000
END:STANDARD
BEGIN:DAYLIGHT
TZOFFSETFROM:+0100
TZOFFSETTO:+0000
TZNAME:GMT
DTSTART:20191027T010000
END:DAYLIGHT
BEGIN:STANDARD
TZOFFSETFROM:+0000
TZOFFSETTO:+0100
TZNAME:IST
DTSTART:20200329T010000
END:STANDARD
BEGIN:DAYLIGHT
TZOFFSETFROM:+0100
TZOFFSETTO:+0000
TZNAME:GMT
DTSTART:20201025T010000
END:DAYLIGHT
END:VTIMEZONE
BEGIN:VEVENT
DTSTART;TZID=Europe/Dublin:20190301T200000
DTEND;TZID=Europe/Dublin:20190301T213000
DTSTAMP:20260422T125106
CREATED:20190225T135514Z
LAST-MODIFIED:20190225T135514Z
UID:23522-1551470400-1551475800@www.conaires.ie
SUMMARY:Quiz Night to support St. Conaire's Parents' Association
DESCRIPTION:St. Conaire’s annual Fun Quiz night will take place in Treacy’s Oakwood Arms Hotel tonight at 8 pm.
URL:https://www.conaires.ie/event/quiz-night-to-support-st-conaires-parents-association/
END:VEVENT
BEGIN:VEVENT
DTSTART;TZID=Europe/Dublin:20190302T183000
DTEND;TZID=Europe/Dublin:20190302T190000
DTSTAMP:20260422T125106
CREATED:20190104T160412Z
LAST-MODIFIED:20190104T160412Z
UID:23498-1551551400-1551553200@www.conaires.ie
SUMMARY:Confirmation Preparation Mass
DESCRIPTION:Our 6th class Confirmation Programme continues with Mass this evening at 6:30 pm in Ss. John & Paul Church.  All are welcome.
URL:https://www.conaires.ie/event/confirmation-preparation-mass-2/
END:VEVENT
BEGIN:VEVENT
DTSTART;VALUE=DATE:20190307
DTEND;VALUE=DATE:20190308
DTSTAMP:20260422T125106
CREATED:20190307T202706Z
LAST-MODIFIED:20190307T202725Z
UID:23525-1551916800-1552003199@www.conaires.ie
SUMMARY:World Book Day 2019
DESCRIPTION:World Book Day 2019 will be marked in St. Conaire’s by a series of events starting on March 4th and running until March 8th.  The aim of these events is to involve every pupil in a number of events designed to promote reading.  This is in keeping with our School Improvement Plan in relation to reading engagement.
URL:https://www.conaires.ie/event/world-book-day-2019/
END:VEVENT
BEGIN:VEVENT
DTSTART;VALUE=DATE:20190315
DTEND;VALUE=DATE:20190319
DTSTAMP:20260422T125106
CREATED:20190314T185224Z
LAST-MODIFIED:20190314T185224Z
UID:23574-1552608000-1552953599@www.conaires.ie
SUMMARY:St.  Patrick's Weekend Closure
DESCRIPTION:St. Conaire’s will be closed on Friday\, March 15th and Monday\, March 18th.  School will re-open on Tuesday\, March 19th.
URL:https://www.conaires.ie/event/st-patricks-weekend-closure/
END:VEVENT
END:VCALENDAR