BEGIN:VCALENDAR
VERSION:2.0
PRODID:-//Welcome to St. Conaires N.S. | Shannon | Diocese of Killaloe - ECPv6.15.20//NONSGML v1.0//EN
CALSCALE:GREGORIAN
METHOD:PUBLISH
X-WR-CALNAME:Welcome to St. Conaires N.S. | Shannon | Diocese of Killaloe
X-ORIGINAL-URL:https://www.conaires.ie
X-WR-CALDESC:Events for Welcome to St. Conaires N.S. | Shannon | Diocese of Killaloe
REFRESH-INTERVAL;VALUE=DURATION:PT1H
X-Robots-Tag:noindex
X-PUBLISHED-TTL:PT1H
BEGIN:VTIMEZONE
TZID:Europe/Dublin
BEGIN:STANDARD
TZOFFSETFROM:+0000
TZOFFSETTO:+0100
TZNAME:IST
DTSTART:20180325T010000
END:STANDARD
BEGIN:DAYLIGHT
TZOFFSETFROM:+0100
TZOFFSETTO:+0000
TZNAME:GMT
DTSTART:20181028T010000
END:DAYLIGHT
BEGIN:STANDARD
TZOFFSETFROM:+0000
TZOFFSETTO:+0100
TZNAME:IST
DTSTART:20190331T010000
END:STANDARD
BEGIN:DAYLIGHT
TZOFFSETFROM:+0100
TZOFFSETTO:+0000
TZNAME:GMT
DTSTART:20191027T010000
END:DAYLIGHT
BEGIN:STANDARD
TZOFFSETFROM:+0000
TZOFFSETTO:+0100
TZNAME:IST
DTSTART:20200329T010000
END:STANDARD
BEGIN:DAYLIGHT
TZOFFSETFROM:+0100
TZOFFSETTO:+0000
TZNAME:GMT
DTSTART:20201025T010000
END:DAYLIGHT
END:VTIMEZONE
BEGIN:VEVENT
DTSTART;VALUE=DATE:20190127
DTEND;VALUE=DATE:20190204
DTSTAMP:20260422T141927
CREATED:20190104T153759Z
LAST-MODIFIED:20190104T153759Z
UID:23477-1548547200-1549238399@www.conaires.ie
SUMMARY:Catholic Schools Week 2019
DESCRIPTION:Catholic Schools Week 2019 will take place between January 27th and February 3rd this year.  The theme for 2019 is Celebrating the Work of Our Local Catholic Schools.  More information will follow.
URL:https://www.conaires.ie/event/catholic-schools-week-2019/
END:VEVENT
BEGIN:VEVENT
DTSTART;TZID=Europe/Dublin:20190214T080000
DTEND;TZID=Europe/Dublin:20190219T170000
DTSTAMP:20260422T141927
CREATED:20190215T115547Z
LAST-MODIFIED:20190215T115612Z
UID:23519-1550131200-1550595600@www.conaires.ie
SUMMARY:Survey on Engagement with Reading for Parents
DESCRIPTION:All parents have been sent a link to our School Self-Evaluation Survey on Reading Engagement.  Please click on the link to take you to the survey.  All responses are anonymous and confidential.  Your responses will shape how St. Conaire’s will enhance pupil engagement with reading.  The survey closes on Tuesday\, February 19th.  Thank you for taking the time to help out.
URL:https://www.conaires.ie/event/survey-on-engagement-with-reading-for-parents/
END:VEVENT
BEGIN:VEVENT
DTSTART;VALUE=DATE:20190220
DTEND;VALUE=DATE:20190221
DTSTAMP:20260422T141927
CREATED:20190214T134454Z
LAST-MODIFIED:20190214T134454Z
UID:23512-1550620800-1550707199@www.conaires.ie
SUMMARY:Closure for Primary Language Curriculum Training
DESCRIPTION:St. Conaire’s will be closed to facilitate staff training on the Primary Language Curriculum today.
URL:https://www.conaires.ie/event/closure-for-primary-language-curriculum-training/
END:VEVENT
BEGIN:VEVENT
DTSTART;VALUE=DATE:20190221
DTEND;VALUE=DATE:20190223
DTSTAMP:20260422T141927
CREATED:20190104T154720Z
LAST-MODIFIED:20190104T154720Z
UID:23483-1550707200-1550879999@www.conaires.ie
SUMMARY:February Mid-term Break 2019
DESCRIPTION:St. Conaire’s will be closed on Thursday\, 21st February and Friday\, 22nd February for the mid-term break.  School will resume on Monday\, 25th February.
URL:https://www.conaires.ie/event/february-mid-term-break-2019/
END:VEVENT
END:VCALENDAR