BEGIN:VCALENDAR
VERSION:2.0
PRODID:-//Welcome to St. Conaires N.S. | Shannon | Diocese of Killaloe - ECPv6.15.20//NONSGML v1.0//EN
CALSCALE:GREGORIAN
METHOD:PUBLISH
X-WR-CALNAME:Welcome to St. Conaires N.S. | Shannon | Diocese of Killaloe
X-ORIGINAL-URL:https://www.conaires.ie
X-WR-CALDESC:Events for Welcome to St. Conaires N.S. | Shannon | Diocese of Killaloe
REFRESH-INTERVAL;VALUE=DURATION:PT1H
X-Robots-Tag:noindex
X-PUBLISHED-TTL:PT1H
BEGIN:VTIMEZONE
TZID:Europe/Dublin
BEGIN:STANDARD
TZOFFSETFROM:+0000
TZOFFSETTO:+0100
TZNAME:IST
DTSTART:20170326T010000
END:STANDARD
BEGIN:DAYLIGHT
TZOFFSETFROM:+0100
TZOFFSETTO:+0000
TZNAME:GMT
DTSTART:20171029T010000
END:DAYLIGHT
BEGIN:STANDARD
TZOFFSETFROM:+0000
TZOFFSETTO:+0100
TZNAME:IST
DTSTART:20180325T010000
END:STANDARD
BEGIN:DAYLIGHT
TZOFFSETFROM:+0100
TZOFFSETTO:+0000
TZNAME:GMT
DTSTART:20181028T010000
END:DAYLIGHT
BEGIN:STANDARD
TZOFFSETFROM:+0000
TZOFFSETTO:+0100
TZNAME:IST
DTSTART:20190331T010000
END:STANDARD
BEGIN:DAYLIGHT
TZOFFSETFROM:+0100
TZOFFSETTO:+0000
TZNAME:GMT
DTSTART:20191027T010000
END:DAYLIGHT
BEGIN:STANDARD
TZOFFSETFROM:+0000
TZOFFSETTO:+0100
TZNAME:IST
DTSTART:20200329T010000
END:STANDARD
BEGIN:DAYLIGHT
TZOFFSETFROM:+0100
TZOFFSETTO:+0000
TZNAME:GMT
DTSTART:20201025T010000
END:DAYLIGHT
END:VTIMEZONE
BEGIN:VEVENT
DTSTART;VALUE=DATE:20190128
DTEND;VALUE=DATE:20190129
DTSTAMP:20260422T172516
CREATED:20190104T154425Z
LAST-MODIFIED:20190104T154425Z
UID:23481-1548633600-1548719999@www.conaires.ie
SUMMARY:St. Conaire's Feast Day
DESCRIPTION:January 28th is the feast day of our patron saint\, Conaire.  Today we remember St. Conaire and we ask for her guidance and protection.
URL:https://www.conaires.ie/event/st-conaires-feast-day/
END:VEVENT
BEGIN:VEVENT
DTSTART;VALUE=DATE:20190126
DTEND;VALUE=DATE:20190127
DTSTAMP:20260422T172516
CREATED:20190104T153950Z
LAST-MODIFIED:20190104T153950Z
UID:23479-1548460800-1548547199@www.conaires.ie
SUMMARY:Confirmation Preparation Mass
DESCRIPTION:The next preparation Mass for Confirmation candidates will take place in Ss. John & Paul Church this evening at 6:30 pm.
URL:https://www.conaires.ie/event/confirmation-preparation-mass/
END:VEVENT
BEGIN:VEVENT
DTSTART;VALUE=DATE:20190121
DTEND;VALUE=DATE:20190125
DTSTAMP:20260422T172516
CREATED:20190104T153517Z
LAST-MODIFIED:20190104T153517Z
UID:23475-1548028800-1548374399@www.conaires.ie
SUMMARY:Parent/Teacher Meetings 2019
DESCRIPTION:Parent/Teacher Meetings will take place this week.  Invitations will be sent out by individual class teachers.
URL:https://www.conaires.ie/event/parent-teacher-meetings-2019/
END:VEVENT
BEGIN:VEVENT
DTSTART;VALUE=DATE:20190115
DTEND;VALUE=DATE:20190116
DTSTAMP:20260422T172516
CREATED:20190104T153236Z
LAST-MODIFIED:20190104T153236Z
UID:23473-1547510400-1547596799@www.conaires.ie
SUMMARY:Junior Infant Vaccinations Day 2
DESCRIPTION:Pupils in Juniors will receive their booster vaccinations from the HSE today.
URL:https://www.conaires.ie/event/junior-infant-vaccinations-day-2/
END:VEVENT
BEGIN:VEVENT
DTSTART;VALUE=DATE:20190114
DTEND;VALUE=DATE:20190115
DTSTAMP:20260422T172516
CREATED:20190104T153104Z
LAST-MODIFIED:20190104T153104Z
UID:23471-1547424000-1547510399@www.conaires.ie
SUMMARY:Junior Infant Vaccinations Day 1
DESCRIPTION:Pupils in Juniors will receive their booster vaccinations from the HSE today.
URL:https://www.conaires.ie/event/junior-infant-vaccinations-day-1/
END:VEVENT
BEGIN:VEVENT
DTSTART;VALUE=DATE:20190107
DTEND;VALUE=DATE:20190108
DTSTAMP:20260422T172516
CREATED:20190104T152849Z
LAST-MODIFIED:20190104T152908Z
UID:23469-1546819200-1546905599@www.conaires.ie
SUMMARY:St. Conaire's re-opens for new school term
DESCRIPTION:St. Conaire’s will re-open today\, January 7th 2019\, for the new school term.  We welcome everyone back to school today.  Please note:  Homework Club will resume on Tuesday\, January 8th 2019.
URL:https://www.conaires.ie/event/st-conaires-re-opens-for-new-school-term/
END:VEVENT
BEGIN:VEVENT
DTSTART;TZID=Europe/Dublin:20181221T120000
DTEND;TZID=Europe/Dublin:20181221T170000
DTSTAMP:20260422T172516
CREATED:20181209T203654Z
LAST-MODIFIED:20181209T203654Z
UID:23460-1545393600-1545411600@www.conaires.ie
SUMMARY:Last day of term
DESCRIPTION:St. Conaire’s will close at 12 noon today for all pupils for the Christmas Holidays.  The school will re-open on Monday\, January 7th 2019.
URL:https://www.conaires.ie/event/last-day-of-term/
END:VEVENT
BEGIN:VEVENT
DTSTART;TZID=Europe/Dublin:20181214T133000
DTEND;TZID=Europe/Dublin:20181214T143000
DTSTAMP:20260422T172516
CREATED:20181209T202304Z
LAST-MODIFIED:20181209T203058Z
UID:23458-1544794200-1544797800@www.conaires.ie
SUMMARY:Mr. McNamara's Christmas Play 2018
DESCRIPTION:
URL:https://www.conaires.ie/event/mr-mcnamaras-christmas-play-2018/
END:VEVENT
BEGIN:VEVENT
DTSTART;TZID=Europe/Dublin:20181214T113000
DTEND;TZID=Europe/Dublin:20181214T120000
DTSTAMP:20260422T172516
CREATED:20181209T202200Z
LAST-MODIFIED:20181209T203005Z
UID:23456-1544787000-1544788800@www.conaires.ie
SUMMARY:Mr. O'Connell's Christmas Play 2018
DESCRIPTION:
URL:https://www.conaires.ie/event/mr-oconnells-christmas-play-2018/
END:VEVENT
BEGIN:VEVENT
DTSTART;TZID=Europe/Dublin:20181214T100000
DTEND;TZID=Europe/Dublin:20181214T110000
DTSTAMP:20260422T172516
CREATED:20181209T202033Z
LAST-MODIFIED:20181209T202920Z
UID:23454-1544781600-1544785200@www.conaires.ie
SUMMARY:Mr. Pilkington's Christmas Play 2018
DESCRIPTION:
URL:https://www.conaires.ie/event/mr-pilkingtons-christmas-play-2018/
END:VEVENT
BEGIN:VEVENT
DTSTART;TZID=Europe/Dublin:20181213T133000
DTEND;TZID=Europe/Dublin:20181213T143000
DTSTAMP:20260422T172516
CREATED:20181209T201945Z
LAST-MODIFIED:20181209T202833Z
UID:23452-1544707800-1544711400@www.conaires.ie
SUMMARY:Ms. White's Christmas Play 2018
DESCRIPTION:
URL:https://www.conaires.ie/event/ms-whites-christmas-play-2018/
END:VEVENT
BEGIN:VEVENT
DTSTART;TZID=Europe/Dublin:20181213T113000
DTEND;TZID=Europe/Dublin:20181213T120000
DTSTAMP:20260422T172516
CREATED:20181209T201856Z
LAST-MODIFIED:20181209T202744Z
UID:23450-1544700600-1544702400@www.conaires.ie
SUMMARY:Mrs. Eisenberg's Christmas Play 2018
DESCRIPTION:
URL:https://www.conaires.ie/event/mrs-eisenbergs-christmas-play-2018/
END:VEVENT
BEGIN:VEVENT
DTSTART;TZID=Europe/Dublin:20181213T093000
DTEND;TZID=Europe/Dublin:20181213T100000
DTSTAMP:20260422T172516
CREATED:20181209T201800Z
LAST-MODIFIED:20181209T202655Z
UID:23448-1544693400-1544695200@www.conaires.ie
SUMMARY:Ms. Faherty's Christmas Play 2018
DESCRIPTION:
URL:https://www.conaires.ie/event/ms-fahertys-christmas-play-2018/
END:VEVENT
BEGIN:VEVENT
DTSTART;TZID=Europe/Dublin:20181212T133000
DTEND;TZID=Europe/Dublin:20181212T140000
DTSTAMP:20260422T172516
CREATED:20181209T201653Z
LAST-MODIFIED:20181209T203328Z
UID:23446-1544621400-1544623200@www.conaires.ie
SUMMARY:Ms. Bulfin's Christmas Play 2018
DESCRIPTION:
URL:https://www.conaires.ie/event/ms-bulfins-christmas-play-2018/
END:VEVENT
BEGIN:VEVENT
DTSTART;TZID=Europe/Dublin:20181212T113000
DTEND;TZID=Europe/Dublin:20181212T120000
DTSTAMP:20260422T172516
CREATED:20181209T201546Z
LAST-MODIFIED:20181209T203240Z
UID:23443-1544614200-1544616000@www.conaires.ie
SUMMARY:Mr. Glynn's Christmas Play 2018
DESCRIPTION:
URL:https://www.conaires.ie/event/mr-glynns-christmas-play-2018/
END:VEVENT
BEGIN:VEVENT
DTSTART;TZID=Europe/Dublin:20181212T093000
DTEND;TZID=Europe/Dublin:20181212T100000
DTSTAMP:20260422T172516
CREATED:20181209T201438Z
LAST-MODIFIED:20181209T203146Z
UID:23441-1544607000-1544608800@www.conaires.ie
SUMMARY:Ms. Greene's Christmas Play 2018
DESCRIPTION:
URL:https://www.conaires.ie/event/ms-greenes-christmas-play-2018/
END:VEVENT
BEGIN:VEVENT
DTSTART;TZID=Europe/Dublin:20181029T080000
DTEND;TZID=Europe/Dublin:20181102T170000
DTSTAMP:20260422T172516
CREATED:20180928T132228Z
LAST-MODIFIED:20180928T132228Z
UID:23303-1540800000-1541178000@www.conaires.ie
SUMMARY:Halloween Mid-term break 2018
DESCRIPTION:St. Conaire’s is closed for the mid-term break. The school will re-open on Monday\, November 5th 2018.
URL:https://www.conaires.ie/event/halloween-mid-term-break-2018/
END:VEVENT
BEGIN:VEVENT
DTSTART;VALUE=DATE:20181026
DTEND;VALUE=DATE:20181027
DTSTAMP:20260422T172516
CREATED:20180928T132056Z
LAST-MODIFIED:20180928T132056Z
UID:23301-1540512000-1540598399@www.conaires.ie
SUMMARY:Presidential Election 2018
DESCRIPTION:St. Conaire’s will be closed on Friday\, October 26th 2018 as the school is being used as a Polling Station.
URL:https://www.conaires.ie/event/presidential-election-2018/
END:VEVENT
BEGIN:VEVENT
DTSTART;VALUE=DATE:20181012
DTEND;VALUE=DATE:20181013
DTSTAMP:20260422T172516
CREATED:20181005T110456Z
LAST-MODIFIED:20181005T110456Z
UID:23415-1539302400-1539388799@www.conaires.ie
SUMMARY:Cake Sale
DESCRIPTION:St. Conaire’s Parent Association will be holding a cake sale in the school today to support the work of the school.  Your support is much appreciated.
URL:https://www.conaires.ie/event/cake-sale/
END:VEVENT
BEGIN:VEVENT
DTSTART;TZID=Europe/Dublin:20181011T120000
DTEND;TZID=Europe/Dublin:20181011T153000
DTSTAMP:20260422T172516
CREATED:20181005T110313Z
LAST-MODIFIED:20181005T110313Z
UID:23413-1539259200-1539271800@www.conaires.ie
SUMMARY:Early Closure for Planning
DESCRIPTION:St. Conaire’s will close for all pupils at 12 noon today to facilitate school planning.
URL:https://www.conaires.ie/event/early-closure-for-planning/
END:VEVENT
BEGIN:VEVENT
DTSTART;TZID=Europe/Dublin:20181011T110000
DTEND;TZID=Europe/Dublin:20181011T113000
DTSTAMP:20260422T172516
CREATED:20180928T131936Z
LAST-MODIFIED:20180928T131936Z
UID:23299-1539255600-1539257400@www.conaires.ie
SUMMARY:Mass to mark the opening of the new school year
DESCRIPTION:Mass to mark the opening of the new school year will be held at 11 am in Ss John & Paul Church today.  All are welcome.
URL:https://www.conaires.ie/event/mass-to-mark-the-opening-of-the-new-school-year/
END:VEVENT
BEGIN:VEVENT
DTSTART;TZID=Europe/Dublin:20181004T193000
DTEND;TZID=Europe/Dublin:20181004T193000
DTSTAMP:20260422T172516
CREATED:20180928T131803Z
LAST-MODIFIED:20180928T131803Z
UID:23297-1538681400-1538681400@www.conaires.ie
SUMMARY:Confirmation Information Evening
DESCRIPTION:Parents of 6th class pupils are invited to a Confirmation Information meeting with Fr. Arnold at 7:30 pm in the halla this evening.
URL:https://www.conaires.ie/event/confirmation-information-evening/
END:VEVENT
BEGIN:VEVENT
DTSTART;TZID=Europe/Dublin:20181004T120000
DTEND;TZID=Europe/Dublin:20181004T130000
DTSTAMP:20260422T172516
CREATED:20180928T131641Z
LAST-MODIFIED:20180928T131641Z
UID:23295-1538654400-1538658000@www.conaires.ie
SUMMARY:
DESCRIPTION:Junior Infant Blessings for Múinteoir Maria’s class and Múinteoir Róisín’s class on today.
URL:https://www.conaires.ie/event/23295/
END:VEVENT
BEGIN:VEVENT
DTSTART;TZID=Europe/Dublin:20180927T110000
DTEND;TZID=Europe/Dublin:20180927T110000
DTSTAMP:20260422T172516
CREATED:20180920T105706Z
LAST-MODIFIED:20180925T085706Z
UID:23061-1538046000-1538046000@www.conaires.ie
SUMMARY:Start of School Year Mass
DESCRIPTION:The annual school mass scheduled for  Thursday September 27th at 11am in Ss John & Paul Church has been POSTPONED owing to unforeseen circumstances.  Apologies for any inconvenience caused.  Please note this mass will be rescheduled for a later date.
URL:https://www.conaires.ie/event/start-of-school-year-mass/
END:VEVENT
BEGIN:VEVENT
DTSTART;TZID=Europe/Dublin:20180922T183000
DTEND;TZID=Europe/Dublin:20180922T183000
DTSTAMP:20260422T172516
CREATED:20180920T124152Z
LAST-MODIFIED:20180920T124152Z
UID:23068-1537641000-1537641000@www.conaires.ie
SUMMARY:First Holy Communion Preparation Mass
DESCRIPTION:The first preparation Mass for Holy Communion (May 2019) will take place in Ss. John & Paul Church on Saturday evening\, September 22nd\, at 6:30 pm.  All are welcome.
URL:https://www.conaires.ie/event/first-holy-communion-preparation-mass/
END:VEVENT
BEGIN:VEVENT
DTSTART;TZID=Europe/Dublin:20180920T193000
DTEND;TZID=Europe/Dublin:20180920T193000
DTSTAMP:20260422T172516
CREATED:20180920T123914Z
LAST-MODIFIED:20180920T123914Z
UID:23066-1537471800-1537471800@www.conaires.ie
SUMMARY:Meeting for parents of children making First Holy Communion
DESCRIPTION:Parents of children making their First Holy Communion in May 2019 are invited to a short meeting tonight in the school which will be facilitated by Fr. Arnold Rosney.
URL:https://www.conaires.ie/event/meeting-for-parents-of-children-making-first-holy-communion/
END:VEVENT
BEGIN:VEVENT
DTSTART;TZID=Europe/Dublin:20180909T100000
DTEND;TZID=Europe/Dublin:20180909T110000
DTSTAMP:20260422T172516
CREATED:20180904T112838Z
LAST-MODIFIED:20180904T113400Z
UID:23020-1536487200-1536490800@www.conaires.ie
SUMMARY:Golden Jubilee Celebration Mass
DESCRIPTION:St. Conaire’s NS will celebrate their Golden Jubilee with a celebration Mass at 10.00 am at SS John & Paul Church on Sunday\, September 9th. \nAll welcome!
URL:https://www.conaires.ie/event/golden-jubilee-celebration-mass/
END:VEVENT
BEGIN:VEVENT
DTSTART;VALUE=DATE:20180625
DTEND;VALUE=DATE:20180626
DTSTAMP:20260422T172516
CREATED:20180531T154342Z
LAST-MODIFIED:20180531T154342Z
UID:21925-1529884800-1529971199@www.conaires.ie
SUMMARY:End of school year Mass
DESCRIPTION:We will mark the end of the 2017/2018 school year with a Mass of Thanksgiving this morning at 11:30 am in Ss. John & Paul Church.
URL:https://www.conaires.ie/event/end-of-school-year-mass/
END:VEVENT
BEGIN:VEVENT
DTSTART;VALUE=DATE:20180613
DTEND;VALUE=DATE:20180614
DTSTAMP:20260422T172516
CREATED:20180531T154315Z
LAST-MODIFIED:20180531T154315Z
UID:21923-1528848000-1528934399@www.conaires.ie
SUMMARY:Fifth Class School Tour
DESCRIPTION:Fifth Class will go to Derg Isle Centre in Scarriff for their school tour today.
URL:https://www.conaires.ie/event/fifth-class-school-tour/
END:VEVENT
BEGIN:VEVENT
DTSTART;VALUE=DATE:20180613
DTEND;VALUE=DATE:20180614
DTSTAMP:20260422T172516
CREATED:20180531T154249Z
LAST-MODIFIED:20180531T154249Z
UID:21921-1528848000-1528934399@www.conaires.ie
SUMMARY:Second Class School Tour
DESCRIPTION:Second Class will go to Aillwee Caves\, the Birds of Prey and Lahinch for their school tour today.
URL:https://www.conaires.ie/event/second-class-school-tour/
END:VEVENT
END:VCALENDAR